BEGIN:VCALENDAR
VERSION:2.0
PRODID:-//Eventin//Event Calendar//EN
CALSCALE:GREGORIAN
METHOD:PUBLISH
BEGIN:VEVENT
UID:4f19ff947380eeded66537dbb32a015a@staging.slr.se
SUMMARY:SLR CE-verktyg - 2682
DESCRIPTION:Kursen ger en övergripande orientering av tillgänglighet och 
 det som kommit att kallas frångänglighet\, där automatiska dörröppnare
  ofta blir den lösning som krävs för att uppfylla lagkrav. Kursen omfatt
 ar en grundlig genomgång av SLR:s CE-verktyg för dörrautomatik samt de m
 yndighetskrav som ställs på både maskintillverkare och byggherrar. Geno
 m referensexempel av dörrmiljöer behandlas tillvägagångssätt\, riskbed
 ömning och praktisk användning av CE-verktyget i arbetet.  Kursinnehål
 l \n\nTillgänglighet och frångänglighet i dörrmiljöer – principer o
 ch kravbild  \n\n\nDörrautomatiker och CE-märkning – Regelverk\, proc
 essen från projektering till installation och slutgiltig dokumentation \n
 \n\nSLR´s CE-verktyg – praktisk genomgång med referensexempel.  \n\n
  \nFörkunskaper: Förkunskaper i regelverk krävs. Erfarenhet av arbete
  med maskindrivna dörrar förutsätts. SLR:s webbinariumska vara genomgån
 get före kursstart: [länk till webbinarium].  https://staging.slr.se/v
 iktigt-om-ce-markning-av-maskindrivna-dorrar/   Ta med: Dator för til
 lämpningsövningar samt tillgång till SLR CE-verktyget. \n Målgrupp P
 rojektörer\, Installatörer/tillverkare verksamma inom dörrautomatik och 
 maskindrivna dörrar.  Ingår i kursavgiften  Lunch\, fika och SLR´s CE
 -verktyg
LOCATION:Mölndal\, Sverige
DTSTAMP:20260420T211527Z
DTSTART:20260507T063000Z
DTEND:20260507T140000Z
END:VEVENT
END:VCALENDAR
